DSET ^ProVeg_Brasil_GRR.bin
*
OPTIONS BIG_ENDIAN
*
UNDEF  3.39999990E+37
*
TITLE  ProVeg_Brasil_GRR
*
XDEF   5961 linear -78.1666641   0.008333
YDEF   5320 linear -36.1564865   0.008333
TDEF      1 linear  00z01jan0001 1hr
ZDEF  1 levels 1000 
*
VARS 1
veg   0 99 VEGETATION DIGITALMODEL
ENDVARS
