* Generated by CDO operator gradsdes
*
DSET  ^WRF5.exp5kmM_2016010100-A-2016-01-02-120000-g1.grb
DTYPE  GRIB
INDEX  ^WRF5.exp5kmM_2016010100-A-2016-01-02-120000-g1.gmp
XDEF 190 LINEAR -84.024000 0.264804
YDEF 245 LINEAR -46.002000 0.240094
ZDEF 50 LEVELS 1007 999 990 979 965 947 926 901 871 837 
               799 758 716 671 626 583 541 502 467 434 
               404 375 349 325 302 280 261 242 225 209 
               194 181 168 156 145 135 125 116 108 100 
               93 87 81 75 70 65 60 56 52 40 
TDEF 1 LINEAR 12:00Z02jan2016 1mn
TITLE  WRF5.exp5kmM_2016010100-A-2016-01-02-120000-g1.grb  190x245 grid
UNDEF  -9e+33
VARS  10
var1              49  1,100  var1
var2              49  2,100  var2
var3              50  3,100  var3
var4              50  4,100  var4
var5              49  5,100  var5
var6              49  6,100  var6
var7              49  7,100  var7
var8              49  8,100  var8
var9               0  9,100  var9
var10              0  10,100  var10
ENDVARS
