* Generated by CDO operator gradsdes
*
DSET  ^v.18h.fct.grb
DTYPE  GRIB
INDEX  ^v.18h.fct.gmp
XDEF 75 LINEAR -56.136000 0.010486
YDEF 88 LINEAR -31.312000 0.009000
ZDEF 49 LINEAR 1 1
TDEF 1 LINEAR 18:00Z24jul2018 1mn
TITLE  v.18h.fct.grb  75x88 grid
UNDEF  -9e+33
VARS  1
v                 49  132,210  V component of wind  [m s**-1]
ENDVARS
