* Generated by CDO operator gradsdes
*
DSET  ^vvar.grb
DTYPE  GRIB
INDEX  ^vvar.gmp
XDEF 75 LINEAR -56.136000 0.010486
YDEF 88 LINEAR -31.312000 0.009000
ZDEF 49 LINEAR 1 1
TDEF 25 LINEAR 00:00Z24jul2018 1hr
TITLE  vvar.grb  75x88 grid
UNDEF  -9e+33
VARS  1
v                 49  132,100  V component of wind  [m s**-1]
ENDVARS
